BEGIN:VCALENDAR
VERSION:2.0
PRODID:-//Lignum Vaud - ECPv6.15.20//NONSGML v1.0//EN
CALSCALE:GREGORIAN
METHOD:PUBLISH
X-ORIGINAL-URL:https://www.lignum-vaud.ch
X-WR-CALDESC:Évènements pour Lignum Vaud
REFRESH-INTERVAL;VALUE=DURATION:PT1H
X-Robots-Tag:noindex
X-PUBLISHED-TTL:PT1H
BEGIN:VTIMEZONE
TZID:Europe/Zurich
BEGIN:DAYLIGHT
TZOFFSETFROM:+0100
TZOFFSETTO:+0200
TZNAME:CEST
DTSTART:20240331T010000
END:DAYLIGHT
BEGIN:STANDARD
TZOFFSETFROM:+0200
TZOFFSETTO:+0100
TZNAME:CET
DTSTART:20241027T010000
END:STANDARD
BEGIN:DAYLIGHT
TZOFFSETFROM:+0100
TZOFFSETTO:+0200
TZNAME:CEST
DTSTART:20250330T010000
END:DAYLIGHT
BEGIN:STANDARD
TZOFFSETFROM:+0200
TZOFFSETTO:+0100
TZNAME:CET
DTSTART:20251026T010000
END:STANDARD
BEGIN:DAYLIGHT
TZOFFSETFROM:+0100
TZOFFSETTO:+0200
TZNAME:CEST
DTSTART:20260329T010000
END:DAYLIGHT
BEGIN:STANDARD
TZOFFSETFROM:+0200
TZOFFSETTO:+0100
TZNAME:CET
DTSTART:20261025T010000
END:STANDARD
END:VTIMEZONE
BEGIN:VEVENT
DTSTART;TZID=Europe/Zurich:20250515T163000
DTEND;TZID=Europe/Zurich:20250515T210000
DTSTAMP:20260421T224317
CREATED:20241203T083144Z
LAST-MODIFIED:20250417T130801Z
UID:7086-1747326600-1747342800@www.lignum-vaud.ch
SUMMARY:AG Lignum Vaud et remise du Prix Mme/M. Bois 2025
DESCRIPTION:Notre assemblée générale ordinaire 2025 se tiendra le jeudi 15 mai 2025 à la salle du centre paroissial de Romainmôtier à 16h30. \nÀ l’issue de l’assemblée générale\, nous procéderons à la remise du prix Madame et Monsieur Bois 2025 à Laetitia Urfer et Marius Boulaz\, distingués en tant que premier couple nominé. Ils partageront avec nous leur passion pour le surf et le bois vaudois. Découvrir les Planches du Nozon \nNous procéderons ensuite à la plantation symbolique d’un arbre\, avant de nous retrouver autour d’un apéritif convivial. \nRetrouvez ici le programme détaillé de l’AG 2025\, le procès-verbal de l’AG 2025 et le rapport d’activités 2024.
URL:https://www.lignum-vaud.ch/agenda/ag-lignum-vaud-et-remise-du-prix-mme-m-bois-2025/
LOCATION:Centre paroissial et culturel de Romainmôtier\, Chemin Derrière-L'Eglise 3\, Romainmôtier\, 1323\, Switzerland
CATEGORIES:Agenda
ATTACH;FMTTYPE=image/jpeg:https://www.lignum-vaud.ch/wp-content/uploads/2023/12/IMG_7592-scaled.jpg
ORGANIZER;CN="Lignum Vaud":MAILTO:info@lignum-vaud.ch
END:VEVENT
BEGIN:VEVENT
DTSTART;VALUE=DATE:20250517
DTEND;VALUE=DATE:20250518
DTSTAMP:20260421T224317
CREATED:20250417T085347Z
LAST-MODIFIED:20250417T085347Z
UID:7374-1747440000-1747526399@www.lignum-vaud.ch
SUMMARY:Festi'jorat et remise du Label Bois Suisse
DESCRIPTION:Ne manquez pas Festi’Jorat le samedi 17 mai prochain au Parc naturel du Jorat. Sentiers didactiques\, animations et snacks pour toute la famille. \n 
URL:https://www.lignum-vaud.ch/agenda/festijorat-et-remise-du-label-bois-suisse/
LOCATION:Parc naturel du Jorat\, Route des Corbessières 4\, Lausanne\, Vaud\, 1000\, Switzerland
ATTACH;FMTTYPE=image/jpeg:https://www.lignum-vaud.ch/wp-content/uploads/2025/04/festijorat.jpg
END:VEVENT
END:VCALENDAR