BEGIN:VCALENDAR
VERSION:2.0
PRODID:-//Lignum Vaud - ECPv6.15.20//NONSGML v1.0//EN
CALSCALE:GREGORIAN
METHOD:PUBLISH
X-ORIGINAL-URL:https://www.lignum-vaud.ch
X-WR-CALDESC:Évènements pour Lignum Vaud
REFRESH-INTERVAL;VALUE=DURATION:PT1H
X-Robots-Tag:noindex
X-PUBLISHED-TTL:PT1H
BEGIN:VTIMEZONE
TZID:Europe/Zurich
BEGIN:DAYLIGHT
TZOFFSETFROM:+0100
TZOFFSETTO:+0200
TZNAME:CEST
DTSTART:20240331T010000
END:DAYLIGHT
BEGIN:STANDARD
TZOFFSETFROM:+0200
TZOFFSETTO:+0100
TZNAME:CET
DTSTART:20241027T010000
END:STANDARD
BEGIN:DAYLIGHT
TZOFFSETFROM:+0100
TZOFFSETTO:+0200
TZNAME:CEST
DTSTART:20250330T010000
END:DAYLIGHT
BEGIN:STANDARD
TZOFFSETFROM:+0200
TZOFFSETTO:+0100
TZNAME:CET
DTSTART:20251026T010000
END:STANDARD
BEGIN:DAYLIGHT
TZOFFSETFROM:+0100
TZOFFSETTO:+0200
TZNAME:CEST
DTSTART:20260329T010000
END:DAYLIGHT
BEGIN:STANDARD
TZOFFSETFROM:+0200
TZOFFSETTO:+0100
TZNAME:CET
DTSTART:20261025T010000
END:STANDARD
END:VTIMEZONE
BEGIN:VEVENT
DTSTART;TZID=Europe/Zurich:20250626T130000
DTEND;TZID=Europe/Zurich:20250626T190000
DTSTAMP:20260422T044910
CREATED:20250520T095419Z
LAST-MODIFIED:20250520T095431Z
UID:7412-1750942800-1750964400@www.lignum-vaud.ch
SUMMARY:Plateforme "Projeter Ensemble"
DESCRIPTION:La Plateforme vaudoise du Bois organise le Forum « Projeter ensemble » jeudi 26 juin 2025\, destiné en priorité aux architectes et ingénieurs bois et visant à renforcer la collaboration entre les ces deux domaines professionnels dans le cadre des constructions bois. Gratuit mais inscription obligatoire ! \n \n 
URL:https://www.lignum-vaud.ch/agenda/plateforme-projeter-ensembleu/
LOCATION:Salle du Parlement vaudois\, Rue Cité-Devant 12\, Lausanne\, Vaud\, 1005\, Switzerland
CATEGORIES:Agenda
ATTACH;FMTTYPE=image/png:https://www.lignum-vaud.ch/wp-content/uploads/2025/05/PVB-projeter-ensemble_SMALL.png
END:VEVENT
END:VCALENDAR